BEGIN:VCALENDAR
METHOD:PUBLISH
PRODID:-//Moodle Pty Ltd//NONSGML Moodle Version 2025100601.03//EN
VERSION:2.0
BEGIN:VEVENT
UID:2126076@www.ecboces.org
SUMMARY:6/2/2026 - CTE Business Planning and Targeted PD Meeting 
DESCRIPTION:PRESENTER: Chris McGilvery\, EC BOCES Perkins & ELL Coordinator
	 LOCATION: East Central BOCES EAST Training Room DESCRIPTION: Register to s
	upport 2026-2027 Business Perkins activities\, resources and partnerships w
	ith Junior Achievement and Morgan Community College. We will also have a se
	ssion for PD to support business teachers with resources and improvement pl
	an implementation for next school year.\nClick Here to Access [1]Export to 
	Calendar [2]\n\nLinks:\n------\n[1] https://www.ecboces.org/course/view.php
	?id=1564\n[2] https://www.ecboces.org/local/coursetocal/exportcal.php?event
	id=2126076\n
	
CLASS:PUBLIC
LAST-MODIFIED:20260408T194637Z
DTSTAMP:20260423T140738Z
DTSTART:20260602T150000Z
DTEND:20260602T200000Z
END:VEVENT
END:VCALENDAR
