BEGIN:VCALENDAR
METHOD:PUBLISH
PRODID:-//Moodle Pty Ltd//NONSGML Moodle Version 2025100601.03//EN
VERSION:2.0
BEGIN:VEVENT
UID:2126026@www.ecboces.org
SUMMARY:6/2/2026 - Enriching Instruction for Secondary Multilingual Learner
	s
	
DESCRIPTION:PRESENTER: Beth Skelton LOCATION: East Central BOCES West Train
	ing Room DESCRIPTION: Don’t miss your final chance to learn with Beth Skelt
	on! In this interactive workshop\, you will explore strategies to scaffold 
	content instruction and support multilingual learners so they can fully par
	ticipate in all content classes. These strategies help multilingual learner
	s comprehend grade-level content and develop listening\, speaking\, reading
	\, and writing skills across the curriculum. You will leave the workshop wi
	th practical ideas for delivering enriched content lessons for your multili
	ngual learners. Lunch and a stipend will be provided.\nClick Here to Access
	 [1]Export to Calendar [2]\n\nLinks:\n------\n[1] https://www.ecboces.org/c
	ourse/view.php?id=1559\n[2] https://www.ecboces.org/local/coursetocal/expor
	tcal.php?eventid=2126026\n
	
CLASS:PUBLIC
LAST-MODIFIED:20260402T193054Z
DTSTAMP:20260423T140829Z
DTSTART:20260602T150000Z
DTEND:20260602T210000Z
END:VEVENT
END:VCALENDAR
