BEGIN:VCALENDAR
METHOD:PUBLISH
PRODID:-//Moodle Pty Ltd//NONSGML Moodle Version 2025100601.03//EN
VERSION:2.0
BEGIN:VEVENT
UID:2126023@www.ecboces.org
SUMMARY:6/1/2026 - Enhancing Instruction for Elementary Multilingual Learne
	rs
	
DESCRIPTION:PRESENTER: Beth Skelton LOCATION: East Central BOCES West Train
	ing Room DESCRIPTION: Don’t miss your final opportunity to learn with Beth 
	Skelton! In this interactive workshop\, you will explore strategies to scaf
	fold instruction and support multilingual learners so they can fully partic
	ipate in grade-level lessons. These strategies will also help multilingual 
	learners develop academic language\, adjust to a new culture\, and develop 
	listening\, speaking\, reading\, and writing skills. You will leave the wor
	kshop with practical ideas for delivering enhanced instruction for your mul
	tilingual learners. Lunch and a stipend will be provided.\nClick Here to Ac
	cess [1]Export to Calendar [2]\n\nLinks:\n------\n[1] https://www.ecboces.o
	rg/course/view.php?id=1558\n[2] https://www.ecboces.org/local/coursetocal/e
	xportcal.php?eventid=2126023\n
	
CLASS:PUBLIC
LAST-MODIFIED:20260402T192328Z
DTSTAMP:20260423T140311Z
DTSTART:20260601T150000Z
DTEND:20260601T210000Z
END:VEVENT
END:VCALENDAR
