BEGIN:VCALENDAR
METHOD:PUBLISH
PRODID:-//Moodle Pty Ltd//NONSGML Moodle Version 2025100601.03//EN
VERSION:2.0
BEGIN:VEVENT
UID:2125802@www.ecboces.org
SUMMARY:9/23/2024 -  GT Work Session for ALPs and Identification 
DESCRIPTION:PRESENTER: Jodi Church\, Gifted & Talented Regional Coordinator
	 LOCATION: East Central BOCES West Training Room DESCRIPTION: GT Work Sessi
	on for ALPs and Identification. Lunch will be provided.\nClick Here for Acc
	ess [1]Export Event [2]\n\nLinks:\n------\n[1] https://www.ecboces.org/cour
	se/view.php?id=1225\n[2] https://www.ecboces.org/local/coursetocal/exportca
	l.php?eventid=2125802\n
	
CLASS:PUBLIC
LAST-MODIFIED:20260218T201917Z
DTSTAMP:20260422T170004Z
DTSTART:20240923T150000Z
DTEND:20240923T210000Z
END:VEVENT
END:VCALENDAR
