BEGIN:VCALENDAR
METHOD:PUBLISH
PRODID:-//Moodle Pty Ltd//NONSGML Moodle Version 2025100601.03//EN
VERSION:2.0
BEGIN:VEVENT
UID:2125782@www.ecboces.org
SUMMARY:9/30/2024 - 2024-2025 Transition Training
DESCRIPTION:PRESENTERS: Nicole Kollath\, EC BOCES SPED Coordinator\, Mary S
	polarich\, EC BOCES Transition Coordinator and Transition Team Members - Ca
	rmen White - Stratton & Melissa Harris - Limon LOCATION: East Central BOCES
	 West Training Room DESCRIPTION: For SPED Teachers instructing students of 
	transition age (15 years old\, but no later than the end of their 9th grade
	 year). The morning instruction will cover EC BOCES data as well as Student
	-Led IEP meetings and ideas. We will also look at how to look at transition
	 services differently to impact students' success. We have a BIG SURPRISE f
	or this training\, so please come and learn with us. We encourage teachers 
	at the Middle School level to attend as well\, as the transition age to enc
	ourage students to think of their future could happen as early as upper ele
	mentary and middle school years. The afternoon will be a re-cap of writing 
	compliant transition IEP's. Lunch will be provided so make sure you registe
	r so we have an accurate count for food.\nClick Here for Access [1]Export E
	vent [2]\n\nLinks:\n------\n[1] https://www.ecboces.org/course/view.php?id=
	1205\n[2] https://www.ecboces.org/local/coursetocal/exportcal.php?eventid=2
	125782\n
	
CLASS:PUBLIC
LAST-MODIFIED:20260218T201917Z
DTSTAMP:20260423T050952Z
DTSTART:20240930T150000Z
DTEND:20240930T220000Z
END:VEVENT
END:VCALENDAR
