BEGIN:VCALENDAR
METHOD:PUBLISH
PRODID:-//Moodle Pty Ltd//NONSGML Moodle Version 2025100601.03//EN
VERSION:2.0
BEGIN:VEVENT
UID:2125753@www.ecboces.org
SUMMARY:9/20/2024 - Crisis Prevention and Intervention (CPI) Initial Traini
	ng
	
DESCRIPTION:PRESENTERS: Callie Burgess\, JoDee Ellis\, Kyle Pocock LOCATION
	: East Central BOCES West Training Room DESCRIPTION: Please see attached do
	cument for information and instructions.\n2024-2025 CPI Schedule.pdf [1]\n\
	nClick Here for Access [2]Export Event [3]\n\nLinks:\n------\n[1] https://w
	ww.ecboces.org/pluginfile.php/47442/course/overviewfiles/2024-2025%20CPI%20
	Schedule.pdf\n[2] https://www.ecboces.org/course/view.php?id=1070\n[3] http
	s://www.ecboces.org/local/coursetocal/exportcal.php?eventid=2125753\n
	
CLASS:PUBLIC
LAST-MODIFIED:20260218T201916Z
DTSTAMP:20260422T115538Z
DTSTART:20240920T150000Z
DTEND:20240920T210000Z
END:VEVENT
END:VCALENDAR
