BEGIN:VCALENDAR
METHOD:PUBLISH
PRODID:-//Moodle Pty Ltd//NONSGML Moodle Version 2025100601.03//EN
VERSION:2.0
BEGIN:VEVENT
UID:2125752@www.ecboces.org
SUMMARY:9/27/2024 - Crisis Prevention and Intervention (CPI) Refresher
DESCRIPTION:PRESENTERS: Callie Burgess\, JoDee Ellis\, Kyle Pocock LOCATION
	: East Central BOCES West Training Room DESCRIPTION: Please see attached fo
	r document for information\, instructions and prices.\nRevised CPI 24-25 tr
	aining dates.pdf [1]\n\nClick Here for Access [2]Export Event [3]\n\nLinks:
	\n------\n[1] https://www.ecboces.org/pluginfile.php/47423/course/overviewf
	iles/Revised%20CPI%2024-25%20training%20dates.pdf\n[2] https://www.ecboces.
	org/course/view.php?id=1069\n[3] https://www.ecboces.org/local/coursetocal/
	exportcal.php?eventid=2125752\n
	
CLASS:PUBLIC
LAST-MODIFIED:20260218T201916Z
DTSTAMP:20260423T002720Z
DTSTART:20240927T150000Z
DTEND:20240927T190000Z
END:VEVENT
END:VCALENDAR
