BEGIN:VCALENDAR
METHOD:PUBLISH
PRODID:-//Moodle Pty Ltd//NONSGML Moodle Version 2025100601.03//EN
VERSION:2.0
BEGIN:VEVENT
UID:2125742@www.ecboces.org
SUMMARY:3/21/2024 - EC BOCES Business Directors PLC
DESCRIPTION:PRESENTER: CIDSIP LOCATION: East Central BOCES West Training Ro
	om or over Zoom DESCRIPTION: Business Directors are invited to attend eithe
	r in person or over Zoom from 9:00 a.m. to approximately 3:00 p.m. Lunch wi
	ll be provided for those attending in person. Please let us know if you wil
	l be in person or over Zoom. CSDSIP doing their annual insurance renewal pr
	esentation in the morning and the afternoon will have time for the group to
	 discuss topics.\nClick Here for Access [1]Export Event [2]\n\nLinks:\n----
	--\n[1] https://www.ecboces.org/course/view.php?id=1057\n[2] https://www.ec
	boces.org/local/coursetocal/exportcal.php?eventid=2125742\n
	
CLASS:PUBLIC
LAST-MODIFIED:20260218T201916Z
DTSTAMP:20260421T085749Z
DTSTART:20240321T150000Z
DTEND:20240321T210000Z
END:VEVENT
END:VCALENDAR
